BEGIN:VCALENDAR
VERSION:2.0
PRODID:-//essenz.vision - ECPv6.15.20//NONSGML v1.0//EN
CALSCALE:GREGORIAN
METHOD:PUBLISH
X-WR-CALNAME:essenz.vision
X-ORIGINAL-URL:https://www.essenz.vision
X-WR-CALDESC:Veranstaltungen für essenz.vision
REFRESH-INTERVAL;VALUE=DURATION:PT1H
X-Robots-Tag:noindex
X-PUBLISHED-TTL:PT1H
BEGIN:VTIMEZONE
TZID:Europe/Berlin
BEGIN:DAYLIGHT
TZOFFSETFROM:+0100
TZOFFSETTO:+0200
TZNAME:CEST
DTSTART:20250330T010000
END:DAYLIGHT
BEGIN:STANDARD
TZOFFSETFROM:+0200
TZOFFSETTO:+0100
TZNAME:CET
DTSTART:20251026T010000
END:STANDARD
BEGIN:DAYLIGHT
TZOFFSETFROM:+0100
TZOFFSETTO:+0200
TZNAME:CEST
DTSTART:20260329T010000
END:DAYLIGHT
BEGIN:STANDARD
TZOFFSETFROM:+0200
TZOFFSETTO:+0100
TZNAME:CET
DTSTART:20261025T010000
END:STANDARD
BEGIN:DAYLIGHT
TZOFFSETFROM:+0100
TZOFFSETTO:+0200
TZNAME:CEST
DTSTART:20270328T010000
END:DAYLIGHT
BEGIN:STANDARD
TZOFFSETFROM:+0200
TZOFFSETTO:+0100
TZNAME:CET
DTSTART:20271031T010000
END:STANDARD
END:VTIMEZONE
BEGIN:VEVENT
DTSTART;TZID=Europe/Berlin:20261112T190000
DTEND;TZID=Europe/Berlin:20261112T220000
DTSTAMP:20260422T011959
CREATED:20250414T133804Z
LAST-MODIFIED:20260102T134042Z
UID:2566-1794510000-1794520800@www.essenz.vision
SUMMARY:Weihnachtsvorfreude
DESCRIPTION:Ätherische Öle in der Weihnachtszeit – Wohlfühlmomente selbstgemacht \nTauche ein in die duftende Welt der ätherischen Öle und erlebe\, wie sie die Weihnachtszeit noch stimmungsvoller und entspannter machen können. \nIn diesem Workshop lernst Du die wohltuende Wirkung winterlicher Öle wie Orange\, Zimt\, Tanne oder Gewürznelke kennen und stellst unter fachkundiger Anleitung eigene Duftkreationen her – z.B. als Raumspray\, Roll-on oder kleines Geschenk. \nGenieße eine kreative Auszeit mit Inspirationen für mehr Achtsamkeit und Wohlbefinden in der festlichen Jahreszeit. \n————————————— \nDu möchtest teilnehmen?\nMerke Dir das Datum und buche direkt per Mail! \n————————————— \nJetzt per Mail buchen
URL:https://www.essenz.vision/index.php/event/einsteiger_08/
LOCATION:Haus der Kräuter\, Kemnather Str. 3\, Nagel\, Bayern\, 95697\, Germany
CATEGORIES:Workshops
ATTACH;FMTTYPE=image/jpeg:https://www.essenz.vision/wp-content/uploads/2025/04/event_weihnachtsvorfreude.jpg
END:VEVENT
END:VCALENDAR