BEGIN:VCALENDAR
VERSION:2.0
PRODID:-//essenz.vision - ECPv6.15.20//NONSGML v1.0//EN
CALSCALE:GREGORIAN
METHOD:PUBLISH
X-WR-CALNAME:essenz.vision
X-ORIGINAL-URL:https://www.essenz.vision
X-WR-CALDESC:Veranstaltungen für essenz.vision
REFRESH-INTERVAL;VALUE=DURATION:PT1H
X-Robots-Tag:noindex
X-PUBLISHED-TTL:PT1H
BEGIN:VTIMEZONE
TZID:Europe/Berlin
BEGIN:DAYLIGHT
TZOFFSETFROM:+0100
TZOFFSETTO:+0200
TZNAME:CEST
DTSTART:20250330T010000
END:DAYLIGHT
BEGIN:STANDARD
TZOFFSETFROM:+0200
TZOFFSETTO:+0100
TZNAME:CET
DTSTART:20251026T010000
END:STANDARD
BEGIN:DAYLIGHT
TZOFFSETFROM:+0100
TZOFFSETTO:+0200
TZNAME:CEST
DTSTART:20260329T010000
END:DAYLIGHT
BEGIN:STANDARD
TZOFFSETFROM:+0200
TZOFFSETTO:+0100
TZNAME:CET
DTSTART:20261025T010000
END:STANDARD
BEGIN:DAYLIGHT
TZOFFSETFROM:+0100
TZOFFSETTO:+0200
TZNAME:CEST
DTSTART:20270328T010000
END:DAYLIGHT
BEGIN:STANDARD
TZOFFSETFROM:+0200
TZOFFSETTO:+0100
TZNAME:CET
DTSTART:20271031T010000
END:STANDARD
END:VTIMEZONE
BEGIN:VEVENT
DTSTART;TZID=Europe/Berlin:20261008T190000
DTEND;TZID=Europe/Berlin:20261008T213000
DTSTAMP:20260421T233609
CREATED:20260102T133151Z
LAST-MODIFIED:20260207T164717Z
UID:3210-1791486000-1791495000@www.essenz.vision
SUMMARY:Baumessenzen
DESCRIPTION:Die Kraft der ätherischen Baumöle entdecken \nIn diesem achtsamen Workshop tauchst du ein in die faszinierende Welt der ätherischen Baumöle und ihre kraftvolle Wirkung auf Körper\, Geist und Seele. Du lernst\, wie die Essenzen aus Fichte\, Tanne\, Zirbelkiefer & Co. deine innere Balance stärken\, Schutz bieten und als natürliche Begleiter in Alltag und Krisenzeiten wirken können. Dabei verbinden sich traditionelles Wissen über Baum-Mythen und moderne Aromatherapie zu einem ganzheitlichen Ansatz. Der Kurs vermittelt dir praxisnahe Techniken\, um Baumöle gezielt anzuwenden – sei es zum Entspannen\, zur Konzentrationsförderung oder seelischen Stärkung. Du erfährst\, wie du deine persönliche Baummischung herstellst und lernst Methoden wie Waldbaden und Symbolarbeit kennen\, die die Wirkung der Essenzen vertiefen. \n————————————— \n  \nDu möchtest teilnehmen?\nMerke Dir das Datum und buche direkt per Mail! \n————————————— \n 
URL:https://www.essenz.vision/index.php/event/baumessenzen/
LOCATION:Haus der Kräuter\, Kemnather Str. 3\, Nagel\, Bayern\, 95697\, Germany
CATEGORIES:Workshops
ATTACH;FMTTYPE=image/jpeg:https://www.essenz.vision/wp-content/uploads/2026/01/iStock-1130502544.jpeg
END:VEVENT
BEGIN:VEVENT
DTSTART;TZID=Europe/Berlin:20261022T190000
DTEND;TZID=Europe/Berlin:20261022T213000
DTSTAMP:20260421T233609
CREATED:20250414T133558Z
LAST-MODIFIED:20260102T133826Z
UID:2564-1792695600-1792704600@www.essenz.vision
SUMMARY:Kraftpaket im Herbst
DESCRIPTION:Mit ätherischen Ölen fit und entspannt durch die kalte Jahreszeit \nWenn die Tage kürzer und kälter werden\, sehnt sich der Körper nach Wärme\, Geborgenheit und innerem Gleichgewicht. In diesem wohltuenden Workshop erfährst Du\, wie Du ätherische Öle gezielt einsetzen kannst\, um Körper\, Geist und Seele in der Winterzeit zu stärken und zu verwöhnen. \nWir tauchen ein in die Welt naturreiner Düfte\, entdecken ihre kraftvollen Eigenschaften und kreieren gemeinsam entspannende und vitalisierende Anwendungen – wie etwa ein wärmendes Körperöl\, ein aromatisches Erkältungsbad oder einen beruhigenden Raumduft. \nGönn Dir eine Auszeit und tanke neue Energie – ganz natürlich. \n————————————— \nDu möchtest teilnehmen?\nMerke Dir das Datum und buche direkt per Mail! \n————————————— \nJetzt per Mail buchen
URL:https://www.essenz.vision/index.php/event/einsteiger_07/
LOCATION:Haus der Kräuter\, Kemnather Str. 3\, Nagel\, Bayern\, 95697\, Germany
CATEGORIES:Workshops
ATTACH;FMTTYPE=image/jpeg:https://www.essenz.vision/wp-content/uploads/2025/05/event_herbst.jpg
END:VEVENT
BEGIN:VEVENT
DTSTART;TZID=Europe/Berlin:20261023T190000
DTEND;TZID=Europe/Berlin:20261023T210000
DTSTAMP:20260421T233609
CREATED:20250414T134906Z
LAST-MODIFIED:20260207T170724Z
UID:2577-1792782000-1792789200@www.essenz.vision
SUMMARY:Duftreise - Innerer Frieden
DESCRIPTION:Die Kraft der inneren Mitte wiederfinden – \nIn diesem besonderen Workshop erlebst Du eine geführte Duftreise – eine Form der Meditation\, bei der ätherische Öle Dich dabei unterstützen\, tief zu entspannen und Deine innere Stärke zu aktivieren. Die Düfte helfen Dir\, leichter in die Fantasiewelt einzutauchen und begleiten Dich auf dem Weg innerlich ruhig zu werden\, zu Dir zu finden und wieder in Deine Kraft zu kommen. \nVor Beginn stelle ich Dir die eingesetzten Öle vor\, erkläre ihre Wirkungsweise und gebe Dir wertvolle Tipps zur Anwendung im Alltag. Du lernst\, wie Du die Kraft der Natur gezielt für Dich nutzen kannst – sei es zur Entspannung\, zur Stärkung oder zum Loslassen. \nFÜR DEINE PERSÖNLICHE WOHLFÜHLZEIT: Bitte bring eine Matte\, Decke\, ein Kissen und bequeme Kleidung mit! \n————————————— \nDu möchtest teilnehmen?\nMerke Dir das Datum und buche direkt per Mail! \n————————————— \nJetzt per Mail buchen
URL:https://www.essenz.vision/index.php/event/duftreise-5/
LOCATION:Gemeindezentrum Nagel\, Wunsiedler Str. 25\, 95697\, Bayern\, 95697\, Germany
CATEGORIES:Event
ATTACH;FMTTYPE=image/jpeg:https://www.essenz.vision/wp-content/uploads/2025/04/IMG_5302.jpg
END:VEVENT
END:VCALENDAR