BEGIN:VCALENDAR
VERSION:2.0
PRODID:-//essenz.vision - ECPv6.15.20//NONSGML v1.0//EN
CALSCALE:GREGORIAN
METHOD:PUBLISH
X-ORIGINAL-URL:https://www.essenz.vision
X-WR-CALDESC:Veranstaltungen für essenz.vision
REFRESH-INTERVAL;VALUE=DURATION:PT1H
X-Robots-Tag:noindex
X-PUBLISHED-TTL:PT1H
BEGIN:VTIMEZONE
TZID:Europe/Berlin
BEGIN:DAYLIGHT
TZOFFSETFROM:+0100
TZOFFSETTO:+0200
TZNAME:CEST
DTSTART:20250330T010000
END:DAYLIGHT
BEGIN:STANDARD
TZOFFSETFROM:+0200
TZOFFSETTO:+0100
TZNAME:CET
DTSTART:20251026T010000
END:STANDARD
BEGIN:DAYLIGHT
TZOFFSETFROM:+0100
TZOFFSETTO:+0200
TZNAME:CEST
DTSTART:20260329T010000
END:DAYLIGHT
BEGIN:STANDARD
TZOFFSETFROM:+0200
TZOFFSETTO:+0100
TZNAME:CET
DTSTART:20261025T010000
END:STANDARD
BEGIN:DAYLIGHT
TZOFFSETFROM:+0100
TZOFFSETTO:+0200
TZNAME:CEST
DTSTART:20270328T010000
END:DAYLIGHT
BEGIN:STANDARD
TZOFFSETFROM:+0200
TZOFFSETTO:+0100
TZNAME:CET
DTSTART:20271031T010000
END:STANDARD
END:VTIMEZONE
BEGIN:VEVENT
DTSTART;TZID=Europe/Berlin:20260522T190000
DTEND;TZID=Europe/Berlin:20260522T210000
DTSTAMP:20260421T111356
CREATED:20250408T121119Z
LAST-MODIFIED:20260207T171435Z
UID:2545-1779476400-1779483600@www.essenz.vision
SUMMARY:Duftreise - Schutzkraft
DESCRIPTION:Stark durch Düfte – Mit Aromen zu innerer Widerstandskraft \nIn diesem Workshop erwartet Dich eine geführte Duftreise – eine besondere Form der Meditation\, bei der ätherische Öle gezielt eingesetzt werden\, um Deine innere Stärke zu fördern. \nDer Fokus liegt auf dem Thema Schutz und Widerstandskraft: \nMit Hilfe der Düfte kannst Du Dich nicht nur tief entspannen\, sondern auch neue Energie und Stabilität aufbauen. Die wohlriechenden Öle unterstützen Dich dabei\, Dich in die Fantasiereise hineinzuversetzen und Deine persönliche Kraftquelle zu entdecken. \nVor der Duftreise stelle ich Dir die verwendeten ätherischen Öle und ihre Duftprofile vor. Du erfährst Spannendes über ihre Wirkungsweise und wie Du sie im Alltag gezielt einsetzen kannst – für mehr Balance\, Schutz und innere Stärke. \nFÜR DEINE WOHLTUENDE AUSZEIT: Bitte bring eine Matte\, Decke\, ein Kissen und bequeme Kleidung mit! \n————————————— \nDu möchtest teilnehmen?\nMerke Dir das Datum und buche direkt per Mail! \n————————————— \nJetzt per Mail buchen
URL:https://www.essenz.vision/index.php/event/duftreise-schutzkraft/
LOCATION:Gemeindezentrum Nagel\, Wunsiedler Str. 25\, 95697\, Bayern\, 95697\, Germany
CATEGORIES:Event
ATTACH;FMTTYPE=image/jpeg:https://www.essenz.vision/wp-content/uploads/2025/07/9161-1-scaled-e1770484435260.jpg
END:VEVENT
END:VCALENDAR