BEGIN:VCALENDAR
VERSION:2.0
PRODID:-//essenz.vision - ECPv6.15.20//NONSGML v1.0//EN
CALSCALE:GREGORIAN
METHOD:PUBLISH
X-WR-CALNAME:essenz.vision
X-ORIGINAL-URL:https://www.essenz.vision
X-WR-CALDESC:Veranstaltungen für essenz.vision
REFRESH-INTERVAL;VALUE=DURATION:PT1H
X-Robots-Tag:noindex
X-PUBLISHED-TTL:PT1H
BEGIN:VTIMEZONE
TZID:Europe/Berlin
BEGIN:DAYLIGHT
TZOFFSETFROM:+0100
TZOFFSETTO:+0200
TZNAME:CEST
DTSTART:20240331T010000
END:DAYLIGHT
BEGIN:STANDARD
TZOFFSETFROM:+0200
TZOFFSETTO:+0100
TZNAME:CET
DTSTART:20241027T010000
END:STANDARD
BEGIN:DAYLIGHT
TZOFFSETFROM:+0100
TZOFFSETTO:+0200
TZNAME:CEST
DTSTART:20250330T010000
END:DAYLIGHT
BEGIN:STANDARD
TZOFFSETFROM:+0200
TZOFFSETTO:+0100
TZNAME:CET
DTSTART:20251026T010000
END:STANDARD
BEGIN:DAYLIGHT
TZOFFSETFROM:+0100
TZOFFSETTO:+0200
TZNAME:CEST
DTSTART:20260329T010000
END:DAYLIGHT
BEGIN:STANDARD
TZOFFSETFROM:+0200
TZOFFSETTO:+0100
TZNAME:CET
DTSTART:20261025T010000
END:STANDARD
BEGIN:DAYLIGHT
TZOFFSETFROM:+0100
TZOFFSETTO:+0200
TZNAME:CEST
DTSTART:20270328T010000
END:DAYLIGHT
BEGIN:STANDARD
TZOFFSETFROM:+0200
TZOFFSETTO:+0100
TZNAME:CET
DTSTART:20271031T010000
END:STANDARD
END:VTIMEZONE
BEGIN:VEVENT
DTSTART;TZID=Europe/Berlin:20260417T190000
DTEND;TZID=Europe/Berlin:20260417T213000
DTSTAMP:20260421T111151
CREATED:20260102T132648Z
LAST-MODIFIED:20260323T085202Z
UID:3206-1776452400-1776461400@www.essenz.vision
SUMMARY:Kosmische Essenzen
DESCRIPTION:Ätherische Öle im Einklang mit deinem Sternzeichen \nErlebe eine einzigartige Verbindung von Sternenweisheit und der Kraft ätherischer Öle. Dieser Workshop lädt dich zu einer Reise ein\, bei der die Einflüsse deines persönlichen Sternzeichens mit den wohltuenden Düften und Wirkungen sorgfältig ausgewählter ätherischer Öle harmonieren. Du lernst\, wie du diese natürlichen Essenzen gezielt nutzt\, um deine Energie zu stärken\, innere Blockaden zu lösen und deine astrologische Persönlichkeitsarchitektur zu unterstützen. Im Kurs erfährst du die wichtigsten Grundlagen der Astrologie und die Wirkungsweise ätherischer Öle auf Körper\, Geist und Seele. Gemeinsam stellst du individuelle Duftmischungen her\, die dein Sternzeichen und aktuelle Lebenszyklen begleiten und dir helfen\, deine innere Balance zu finden und zu vertiefen. \n————————————— \nDu möchtest teilnehmen?\nMerke Dir das Datum und buche direkt per Mail! \n————————————— \n 
URL:https://www.essenz.vision/index.php/event/kosmische-essenzen/
LOCATION:Haus der Kräuter\, Kemnather Str. 3\, Nagel\, Bayern\, 95697\, Germany
CATEGORIES:Workshops
ATTACH;FMTTYPE=image/jpeg:https://www.essenz.vision/wp-content/uploads/2026/01/iStock-1411203580.jpeg
END:VEVENT
BEGIN:VEVENT
DTSTART;TZID=Europe/Berlin:20260327T190000
DTEND;TZID=Europe/Berlin:20260327T210000
DTSTAMP:20260421T111151
CREATED:20260102T170851Z
LAST-MODIFIED:20260207T141656Z
UID:3227-1774638000-1774645200@www.essenz.vision
SUMMARY:Duftreise - Vertrauen\, Kraft\, Naturverbundenheit
DESCRIPTION:Ein Atemzug Natur – ein Moment des Vertrauens. \nIn diesem besonderen Workshop erlebst Du eine geführte Duftreise – eine Reise zu Deiner inneren Kraft – getragen von der Weisheit der Pflanzen. \nAtme ein – und spüre\, wie der Duft Dich trägt. Wie ein sanfter Wind aus der Natur erinnert er Dich daran\, dass Du Teil von etwas Größerem bist. Mit jedem Atemzug wächst das Vertrauen in Deinen Körper\, in Deine Wahrnehmung\, in den natürlichen Rhythmus des Lebens. Die Essenzen der Pflanzen erzählen von Beständigkeit und innerer Stärke\, und genau diese Kraft darf auch Dich durchströmen. Die Natur trägt Dich. \nVielleicht spürst Du ein stilles Wissen in Dir. Du darfst vertrauen\, Deinem Weg\, Deinem Tempo\, Deiner inneren Weisheit. Wie die Pflanzen folgst auch Du Deiner eigenen Natur. \nVor Beginn stelle ich Dir die eingesetzten ätherischen Öle vor\, erkläre ihre Wirkungsweise und gebe Dir wertvolle Tipps zur Anwendung im Alltag. Du lernst\, wie Du die Kraft der Natur gezielt für Dich nutzen kannst – sei es zur Entspannung\, zur Stärkung oder zum Loslassen. \nFÜR DEINE PERSÖNLICHE AUSZEIT: Bitte bring eine Matte\, Decke\, ein Kissen und bequeme Kleidung mit! \n————————————— \nDu möchtest teilnehmen?\nMerke Dir das Datum und buche direkt per Mail! \n—————————————
URL:https://www.essenz.vision/index.php/event/duftreise-vertrauen-kraft-naturverbundenheit/
LOCATION:Gemeindezentrum Nagel\, Wunsiedler Str. 25\, 95697\, Bayern\, 95697\, Germany
CATEGORIES:Event
ATTACH;FMTTYPE=image/jpeg:https://www.essenz.vision/wp-content/uploads/2025/07/9314-scaled.jpg
END:VEVENT
BEGIN:VEVENT
DTSTART;TZID=Europe/Berlin:20260310T190000
DTEND;TZID=Europe/Berlin:20260310T213000
DTSTAMP:20260421T111151
CREATED:20260102T132252Z
LAST-MODIFIED:20260207T150542Z
UID:3204-1773169200-1773178200@www.essenz.vision
SUMMARY:Aromen des Südens
DESCRIPTION:Wohltuende Düfte mediterraner Kräuter \nDer Süden – warm\, würzig\, sonnenverwöhnt. \nWo Lavendel\, Rosmarin und Zitrusbäume duften\, liegt die Essenz von Leichtigkeit und Lebensfreude in der Luft. In diesem Workshop begeben wir uns auf eine sinnliche Duftreise durch die mediterrane Pflanzenwelt. Wir entdecken die ätherischen Öle aus Lavendel\, Zitrone\, Rosmarin\, Zypresse\, Myrte & Co. – ihre Wirkung auf Körper\, Geist und Seele – und erfahren\, wie sie Harmonie\, Frische und innere Ruhe schenken. Gemeinsam mischen wir kleine Duftbegleiter\, Körperöle oder Sprays\, die Sonne und Wärme in unseren Alltag bringen – ein Stück Mittelmeer für Herz und Sinne. \n————————————— \nDu möchtest teilnehmen?\nMerke Dir das Datum und buche direkt per Mail! \n————————————— \n 
URL:https://www.essenz.vision/index.php/event/aromen-des-suedens/
LOCATION:Haus der Kräuter\, Kemnather Str. 3\, Nagel\, Bayern\, 95697\, Germany
CATEGORIES:Workshops
ATTACH;FMTTYPE=image/jpeg:https://www.essenz.vision/wp-content/uploads/2026/01/IMG_2638-2-e1770476708258.jpeg
END:VEVENT
BEGIN:VEVENT
DTSTART;TZID=Europe/Berlin:20260227T190000
DTEND;TZID=Europe/Berlin:20260227T210000
DTSTAMP:20260421T111151
CREATED:20191104T074440Z
LAST-MODIFIED:20260207T151559Z
UID:539-1772218800-1772226000@www.essenz.vision
SUMMARY:Duftreise - Kreativität
DESCRIPTION:Begegnung mit Deiner inneren Schöpferkraft \nIn diesem besonderen Workshop erlebst Du eine geführte Duftreise – eine Form der Meditation\, bei der ätherische Öle Dich dabei unterstützen\, tief zu entspannen und Deine innere Stärke zu aktivieren. \nDüfte wirken direkt auf unser limbisches System\, den Teil des Gehirns\, der für Emotionen\, Erinnerungen und Kreativität zuständig ist. Diese Duftreise ist eine Einladung\, Deiner inneren Schöpferkraft zu begegnen. Vertraue Deinen Sinnen\, folge Deiner Neugier und nimm mit\, was Dich berührt. Denn Kreativität beginnt dort\, wo wir uns erlauben zu fühlen. \nVor Beginn stelle ich Dir die eingesetzten Öle vor\, erkläre ihre Wirkungsweise und gebe Dir wertvolle Tipps zur Anwendung im Alltag. Du lernst\, wie Du die Kraft der Natur gezielt für Dich nutzen kannst – sei es zur Entspannung\, zur Stärkung oder zum Loslassen. \nFÜR DEINE PERSÖNLICHE WOHLFÜHLZEIT: Bitte bring eine Matte\, Decke\, ein Kissen und bequeme Kleidung mit! \n  \n————————————— \nDu möchtest teilnehmen?\nMerke Dir das Datum und buche direkt per Mail! \n————————————— \nJetzt per Mail buchen
URL:https://www.essenz.vision/index.php/event/duftreise-selbstkraft/
LOCATION:Gemeindezentrum Nagel\, Wunsiedler Str. 25\, 95697\, Bayern\, 95697\, Germany
CATEGORIES:Event
ATTACH;FMTTYPE=image/jpeg:https://www.essenz.vision/wp-content/uploads/2019/11/IMG_4649-1.jpeg
END:VEVENT
BEGIN:VEVENT
DTSTART;TZID=Europe/Berlin:20260226T140000
DTEND;TZID=Europe/Berlin:20260226T163000
DTSTAMP:20260421T111151
CREATED:20260102T125924Z
LAST-MODIFIED:20260207T172109Z
UID:3200-1772114400-1772123400@www.essenz.vision
SUMMARY:Ätherische Öle für Senioren
DESCRIPTION:Ätherische Öle für Senioren \nWohlbefinden\, Entspannung und Lebensfreude mit der Kraft der Natur. In diesem Workshop entdecken wir die sanfte Welt der ätherischen Öle – natürliche Düfte\, die Körper\, Geist und Seele stärken können. Gemeinsam lernen wir\, wie ausgewählte Öle das Wohlbefinden im Alltag unterstützen: beruhigende Düfte für erholsamen Schlaf\, anregende Aromen für mehr Energie und gute Laune\, wohltuende Mischungen für Muskeln\, Gelenke und Atemwege. Mit einfachen Anwendungen\, kleinen Duftübungen und praktischen Tipps erfahren Sie\, wie Sie ätherische Öle sicher und angenehm einsetzen können. \nEin Nachmittag zum Durchatmen\, Wohlfühlen und Genießen. \n————————————— \nDu möchtest teilnehmen?\nMerke Dir das Datum und buche direkt per Mail! \n—————————————
URL:https://www.essenz.vision/index.php/event/aetherische-oele-fuer-senioren/
LOCATION:Haus der Kräuter\, Kemnather Str. 3\, Nagel\, Bayern\, 95697\, Germany
CATEGORIES:Workshops
ATTACH;FMTTYPE=image/jpeg:https://www.essenz.vision/wp-content/uploads/2025/01/home-hero-background-desktop-11.jpg
END:VEVENT
BEGIN:VEVENT
DTSTART;TZID=Europe/Berlin:20260205T190000
DTEND;TZID=Europe/Berlin:20260205T213000
DTSTAMP:20260421T111151
CREATED:20250414T134023Z
LAST-MODIFIED:20260102T171907Z
UID:2568-1770318000-1770327000@www.essenz.vision
SUMMARY:Duftwelt entdecken
DESCRIPTION:Essenzen des Wohlbefindens – Dein Einstieg in die Welt ätherischer Öle \nTauche ein in die duftende Welt der ätherischen Öle und entdecke\, wie natürliche Pflanzenauszüge Körper\, Geist und Seele in Einklang bringen können. In diesem praxisorientierten Einsteigerkurs lernst du die Grundlagen der Aromatherapie kennen und erfährst\, wie du hochwertige ätherische Öle sicher und wirksam im Alltag anwendest. Gemeinsam erkunden wir die wichtigsten Öle und ihre Wirkweisen – von belebend bis entspannend – und mischen eigene Duftkreationen für besondere Bedürfnisse wie Konzentration\, Erholung oder innere Balance. Dabei erhältst du wertvolle Tipps zur richtigen Dosierung\, Anwendung und Lagerung der Öle. \n————————————— \nDu möchtest teilnehmen?\nMerke Dir das Datum und buche direkt per Mail! \n————————————— \nJetzt per Mail buchen
URL:https://www.essenz.vision/index.php/event/einsteiger_09/
LOCATION:Haus der Kräuter\, Kemnather Str. 3\, Nagel\, Bayern\, 95697\, Germany
CATEGORIES:Intro
ATTACH;FMTTYPE=image/jpeg:https://www.essenz.vision/wp-content/uploads/2024/12/event-duftreise3.jpg
END:VEVENT
BEGIN:VEVENT
DTSTART;TZID=Europe/Berlin:20260130T190000
DTEND;TZID=Europe/Berlin:20260130T210000
DTSTAMP:20260421T111151
CREATED:20260102T141207Z
LAST-MODIFIED:20260102T155804Z
UID:3218-1769799600-1769806800@www.essenz.vision
SUMMARY:Duftreise - Neubeginn
DESCRIPTION:Altes loslassen – Einen Neuanfang wagen \nIn diesem besonderen Workshop erlebst Du eine geführte Duftreise – eine Form der Meditation\, bei der ätherische Öle Dich dabei unterstützen\, tief zu entspannen und Deine innere Stärke zu aktivieren. Die Düfte unterstützen Dich dabei alles\, was Dich nicht mehr nährt\, loszulassen und Raum für Klarheit\, Leichtigkeit und neue Möglichkeiten entstehen zu lassen. \nVor Beginn stelle ich Dir die eingesetzten Öle vor\, erkläre ihre Wirkungsweise und gebe Dir wertvolle Tipps zur Anwendung im Alltag. Du lernst\, wie Du die Kraft der Natur gezielt für Dich nutzen kannst – sei es zur Entspannung\, zur Stärkung oder zum Loslassen. \nFÜR DEINE PERSÖNLICHE WOHLFÜHLZEIT: Bitte bring eine Matte\, Decke\, ein Kissen und bequeme Kleidung mit! \n  \n————————————— \nDu möchtest teilnehmen?\nMerke Dir das Datum und buche direkt per Mail! \n—————————————
URL:https://www.essenz.vision/index.php/event/duftreise-neubeginn/
LOCATION:Gemeindezentrum Nagel\, Wunsiedler Str. 25\, 95697\, Bayern\, 95697\, Germany
CATEGORIES:Event
ATTACH;FMTTYPE=image/jpeg:https://www.essenz.vision/wp-content/uploads/2026/01/IMG_4696-1.jpeg
END:VEVENT
BEGIN:VEVENT
DTSTART;TZID=Europe/Berlin:20260127T190000
DTEND;TZID=Europe/Berlin:20260127T213000
DTSTAMP:20260421T111151
CREATED:20260102T124942Z
LAST-MODIFIED:20260117T121312Z
UID:3196-1769540400-1769549400@www.essenz.vision
SUMMARY:Zitrusfrische
DESCRIPTION:Zitrusfrische für Körper und Seele – Wellness mit ätherischen Zitrusölen \nErlebe die sonnige Leichtigkeit ätherischer Zitrusöle und bring neuen Schwung in dein persönliches Wohlfühlritual. In diesem entspannenden Workshop dreht sich alles um die wohltuende Kraft von Orange\, Zitrone\, Grapefruit & Co. – ideal zur Förderung von Lebensfreude\, innerer Balance und einem frischen Körpergefühl. Du erfährst\, wie du Zitrusöle sicher und genussvoll im Alltag einsetzen kannst – etwa in Körperpflege\, Raumbeduftung oder zur kleinen Auszeit zwischendurch. Gemeinsam kreieren wir einfache Wellness-Produkte zum Mitnehmen die Körper und Sinne verwöhnen. \nEin Workshop für alle\, die natürliche Frische und neue Energie in ihr Wohlfühlprogramm bringen möchten. \n————————————— \nDu möchtest teilnehmen?\nMerke Dir das Datum und buche direkt per Mail! \n—————————————
URL:https://www.essenz.vision/index.php/event/zitrusfrische-fuer-koerper-und-seele/
LOCATION:Haus der Kräuter\, Kemnather Str. 3\, Nagel\, Bayern\, 95697\, Germany
CATEGORIES:Workshops
ATTACH;FMTTYPE=image/jpeg:https://www.essenz.vision/wp-content/uploads/2026/01/IMG_5391.jpeg
END:VEVENT
BEGIN:VEVENT
DTSTART;TZID=Europe/Berlin:20251105T190000
DTEND;TZID=Europe/Berlin:20251105T213000
DTSTAMP:20260421T111151
CREATED:20250414T141158Z
LAST-MODIFIED:20250901T194710Z
UID:2583-1762369200-1762378200@www.essenz.vision
SUMMARY:Zauber von 1001 Nacht
DESCRIPTION:Workshop: Der Zauber von 1001 Nacht – Ätherische Öle des Orients\nWORKSHOP: Tauche ein in die geheimnisvolle Welt orientalischer Düfte und lasse Dich entführen in eine sinnliche Reise durch die aromatische Vielfalt von Kardamom\, Kurkuma\, Vanille\, Nelke und Zimt. Blütenträume aus Rose\, Jasmin und Neroli verbinden sich mit den warmen\, erdenden Noten von Sandelholz\, Weihrauch und Myrrhe – eine Einladung an Deine Sinne\, sich zu öffnen und in die Magie des Orients einzutauchen. \nIn diesem Workshop lernst Du ausgewählte ätherische Öle und Pflanzenporträts kennen\, erfährst Spannendes über Herkunft\, Gewinnung und Anwendung dieser kostbaren Essenzen – und entdeckst ihre Wirkung auf Körper\, Geist und Herz. Gemeinsam stellen wir einen persönlichen Aroma-Roll-on her\, mit dem Du den Duft von 1001 Nacht in Deinen Alltag mitnehmen kannst. \nEin Workshop für alle\, die Schönheit\, Tiefe und Inspiration in der Welt der Düfte suchen. Lass Dich berühren und verzaubern – orientalisch\, sinnlich\, einzigartig. \n————————————— \nDu möchtest teilnehmen?\nMerke Dir das Datum und buche direkt per Mail! \n————————————— \nJetzt per Mail buchen\n 
URL:https://www.essenz.vision/index.php/event/zauber_von_1001_nacht/
LOCATION:Haus der Kräuter\, Kemnather Str. 3\, Nagel\, Bayern\, 95697\, Germany
CATEGORIES:Workshops
ATTACH;FMTTYPE=image/jpeg:https://www.essenz.vision/wp-content/uploads/2024/12/event-duftorient.jpg
END:VEVENT
BEGIN:VEVENT
DTSTART;TZID=Europe/Berlin:20251019T100000
DTEND;TZID=Europe/Berlin:20251019T120000
DTSTAMP:20260421T111151
CREATED:20250901T193703Z
LAST-MODIFIED:20251013T081802Z
UID:3150-1760868000-1760875200@www.essenz.vision
SUMMARY:Duftende Baumkraft
DESCRIPTION:Baumyoga mit ätherischen Ölen – als Quelle der Ruhe\, Klarheit und Lebendigkeit im Alltag. \nBaumyoga ist eine Form des Yoga\, inspiriert vom Kundalini Yoga und zugleich tief mit der Natur verbunden. Die Bäume sind dabei unsere Lehrmeister. Sie zeigen uns\, wie wir verwurzelt und stabil in der Erde stehen können und uns gleichzeitig weit und frei nach oben öffnen. In den Bewegungen\, Atemübungen und Meditationen erleben wir die Qualitäten der Bäume in uns selbst. \nDie Birke\, zum Beispiel\, der Baum des Frühlings\, des Anfangs und des Neubeginns\, vermittelt uns Jugendfrische\, tänzerische Leichtigkeit und Lebensfreude. Die Sibirische Tanne ist ein Symbol für Stärke und Widerstandskraft. Sie verleiht uns Mut und Stabilität. Die Zeder schenkt ein tiefes Gefühl von Sicherheit und Geborgenheit und erinnert uns daran\, dass wir Teil von etwas Größerem sind. \nJeder Baum wird eine Einladung an Deine Herzenskraft sein und seinen Dank zurückgeben. \nDurch die Anlehnung an Kundalini Yoga fließen dynamische Übungsreihen\, Atemtechniken und Mantra-Meditationen mit ein. Sie helfen\, Energie zum Fließen zu bringen und einen klaren\, bewussten Geist zu kultivieren. \nBesonders wirkungsvoll wird diese Praxis durch die Begleitung mit ätherischen Ölen. Düfte aus Hölzern und Nadeln wirken erdend\, beruhigend und zugleich öffnend für den Atem. Ein Erlebnis\, das Dich einlädt\, die Weisheit der Bäume und die Heilkraft der Düfte für Dich zu entdecken. \nDieser besondere Workshop ist wie ein Waldspaziergang für Körper und Seele. \nFÜR DEINE PERSÖNLICHE WOHLFÜHLZEIT: Bitte bring eine Matte\, Decke\, ein Kissen und bequeme Kleidung mit! \n———————————————————– \nDu möchtest teilnehmen?\nMerke Dir das Datum und buche direkt per Mail! \nAnmeldeschluss: 15.10.2025 \n———————————————————–
URL:https://www.essenz.vision/index.php/event/duftende-baumkraft/
LOCATION:Gemeindezentrum Nagel\, Wunsiedler Str. 25\, 95697\, Bayern\, 95697\, Germany
CATEGORIES:Event
ATTACH;FMTTYPE=image/jpeg:https://www.essenz.vision/wp-content/uploads/2025/09/Baum-1536px.jpg
END:VEVENT
BEGIN:VEVENT
DTSTART;TZID=Europe/Berlin:20250916T190000
DTEND;TZID=Europe/Berlin:20250916T213000
DTSTAMP:20260421T111151
CREATED:20250414T140945Z
LAST-MODIFIED:20250527T113235Z
UID:2581-1758049200-1758058200@www.essenz.vision
SUMMARY:Schlaf dich stark!
DESCRIPTION:WORKSHOP – Ätherische Öle für einen erholsamen Schlaf\n \nEin erholsamer Schlaf ist die Grundlage für Gesundheit\, Wohlbefinden und Lebensfreude. Während wir schlafen\, regeneriert sich unser Körper\, unser Immunsystem wird gestärkt und das Nervensystem kommt zur Ruhe. Doch in unserer hektischen Welt leiden immer mehr Menschen unter Einschlafproblemen\, nächtlichem Grübeln oder unruhigem Schlaf. Anhaltende Schlafstörungen können nicht nur die Stimmung und Konzentration beeinträchtigen\, sondern langfristig auch die körperliche Gesundheit belasten. \nHier setzt die sanfte Kraft der ätherischen Öle an. Sie wirken über unseren Geruchssinn direkt auf das limbische System – den Teil des Gehirns\, der unsere Emotionen\, Erinnerungen und auch das Schlafverhalten beeinflusst. Bestimmte ätherische Öle wie Lavendel\, Mandarine oder Zirbelkiefer sind dafür bekannt\, beruhigend zu wirken\, Spannungen zu lösen und eine entspannte Schlafatmosphäre zu schaffen – ganz ohne Nebenwirkungen. \nIn diesem Workshop erfährst Du\, wie Du ätherische Öle gezielt einsetzen kannst\, um Deinen Schlaf auf natürliche Weise zu fördern. Du lernst die wirksamsten Schlafhelfer aus der Natur kennen und erhältst praktisches Wissen zur sicheren Anwendung. \nDarüber hinaus stellst Du eigene Produkte wie ein Schlafspray und einen entspannenden Roll-on her – ideal zur Integration in Deine Abendroutine. \nGönn Dir und Deinem Körper die Ruhe\, die er verdient – denn ein guter Morgen beginnt mit einer erholsamen Nacht. \n————————————— \nDu möchtest teilnehmen?\nMerke Dir das Datum und buche direkt per Mail! \n————————————— \nJetzt per Mail buchen
URL:https://www.essenz.vision/index.php/event/schlaf-dich-stark/
LOCATION:Haus der Kräuter\, Kemnather Str. 3\, Nagel\, Bayern\, 95697\, Germany
CATEGORIES:Workshops
ATTACH;FMTTYPE=image/jpeg:https://www.essenz.vision/wp-content/uploads/2025/05/event_schlaf.jpg
END:VEVENT
BEGIN:VEVENT
DTSTART;TZID=Europe/Berlin:20250715T190000
DTEND;TZID=Europe/Berlin:20250715T213000
DTSTAMP:20260421T111151
CREATED:20191030T140337Z
LAST-MODIFIED:20250527T154224Z
UID:417-1752606000-1752615000@www.essenz.vision
SUMMARY:Intro Guide
DESCRIPTION:Ätherische Öle entdecken – sanfte Helfer der Natur \nWas sind ätherische Öle eigentlich genau? Wie wirken sie auf Körper und Geist\, und worauf sollte man bei der Anwendung achten? \nIn diesem Workshop erhältst Du fundiertes Basiswissen rund um ätherische Öle – ideal für Einsteiger und alle\, die einen natürlichen Weg zu mehr Wohlbefinden suchen. Gemeinsam tauchen wir in die Welt der Düfte ein und beleuchten drei der beliebtesten ätherischen Öle: \nLAVENDEL\, PFEFFERMINZE und ZITRONE. \nDu erfährst Spannendes über die Herkunft der Pflanzen\, ihre Wirkstoffe und wie Du die Öle sicher und wirkungsvoll im Alltag einsetzen kannst – ob zur Entspannung\, Erfrischung oder bei kleinen Beschwerden. \nFreue Dich auf eine duftende Entdeckungsreise mit vielen praktischen Tipps\, die nicht nur Deine Hausapotheke bereichern und Dein Wohlbefinden stärken können. \n————————————— \nDu möchtest teilnehmen?\nMerke Dir das Datum und buche direkt per Mail! \n————————————— \nJetzt per Mail buchen
URL:https://www.essenz.vision/index.php/event/einsteiger_03/
LOCATION:Haus der Kräuter\, Kemnather Str. 3\, Nagel\, Bayern\, 95697\, Germany
CATEGORIES:Intro
ATTACH;FMTTYPE=image/jpeg:https://www.essenz.vision/wp-content/uploads/2024/12/event-duftreise3.jpg
END:VEVENT
BEGIN:VEVENT
DTSTART;TZID=Europe/Berlin:20250624T190000
DTEND;TZID=Europe/Berlin:20250624T210000
DTSTAMP:20260421T111151
CREATED:20250525T064510Z
LAST-MODIFIED:20250527T113149Z
UID:2781-1750791600-1750798800@www.essenz.vision
SUMMARY:Sommerfeeling
DESCRIPTION:Workshop:  Zitrusfrische für Körper und Seele – Wellness mit ätherischen Zitrusölen \nErlebe die sonnige Leichtigkeit ätherischer Zitrusöle und bring neuen Schwung in dein persönliches Wohlfühlritual. \nIn diesem entspannenden Workshop dreht sich alles um die wohltuende Kraft von Orange\, Zitrone\, Grapefruit & Co. – ideal zur Förderung von Lebensfreude\, innerer Balance und einem frischen Körpergefühl. \nDu erfährst\, wie du Zitrusöle sicher und genussvoll im Alltag einsetzen kannst – etwa in Körperpflege\, Raumbeduftung oder zur kleinen Auszeit zwischendurch. Gemeinsam kreieren wir einfache Wellness-Produkte zum Mitnehmen die Körper und Sinne verwöhnen. \nEin Workshop für alle\, die natürliche Frische und neue Energie in ihr Wohlfühlprogramm bringen möchten. \n————————————— \nDu möchtest teilnehmen?\nMerke Dir das Datum und buche direkt per Mail! \n————————————— \nJetzt per Mail buchen
URL:https://www.essenz.vision/index.php/event/sommerfeeling/
LOCATION:Haus der Kräuter\, Kemnather Str. 3\, Nagel\, Bayern\, 95697\, Germany
CATEGORIES:Workshops
ATTACH;FMTTYPE=image/jpeg:https://www.essenz.vision/wp-content/uploads/2025/05/event_sommerfeeling1.jpg
END:VEVENT
BEGIN:VEVENT
DTSTART;TZID=Europe/Berlin:20250606T190000
DTEND;TZID=Europe/Berlin:20250606T210000
DTSTAMP:20260421T111151
CREATED:20250524T144005Z
LAST-MODIFIED:20250527T112557Z
UID:2762-1749236400-1749243600@www.essenz.vision
SUMMARY:Duftreise- Selbstbestimmung
DESCRIPTION:Mit all deinen Sinnen mehr Selbstbestimmung finden – \nIn diesem besonderen Workshop erlebst Du eine geführte Duftreise – eine Form der Meditation\, bei der ätherische Öle Dich dabei unterstützen\, tief zu entspannen und Deine innere Stärke zu aktivieren. Die Düfte helfen Dir\, leichter in die Fantasiewelt einzutauchen und begleiten Dich auf dem Weg zu mehr Selbstbestimmung und innerer Klarheit. \nVor Beginn stelle ich Dir die eingesetzten Öle vor\, erkläre ihre Wirkungsweise und gebe Dir wertvolle Tipps zur Anwendung im Alltag. Du lernst\, wie Du die Kraft der Natur gezielt für Dich nutzen kannst – sei es zur Entspannung\, zur Stärkung oder zum Loslassen. \nFÜR DEINE PERSÖNLICHE WOHLFÜHLZEIT: Bitte bring eine Matte\, Decke\, ein Kissen und bequeme Kleidung mit! \n————————————— \nDu möchtest teilnehmen?\nMerke Dir das Datum und buche direkt per Mail! \n————————————— \nJetzt per Mail buchen
URL:https://www.essenz.vision/index.php/event/duftreise-selbstbestimmung/
LOCATION:Gemeindezentrum Nagel\, Wunsiedler Str. 25\, 95697\, Bayern\, 95697\, Germany
CATEGORIES:Event
ATTACH;FMTTYPE=image/jpeg:https://www.essenz.vision/wp-content/uploads/2025/05/event_duft_selbstbestimmung1.jpg
END:VEVENT
BEGIN:VEVENT
DTSTART;TZID=Europe/Berlin:20250520T190000
DTEND;TZID=Europe/Berlin:20250520T213000
DTSTAMP:20260421T111151
CREATED:20191104T081855Z
LAST-MODIFIED:20250525T153552Z
UID:543-1747767600-1747776600@www.essenz.vision
SUMMARY:Intro Guide
DESCRIPTION:Ätherische Öle entdecken – sanfte Helfer der Natur \nWas sind ätherische Öle eigentlich genau? Wie wirken sie auf Körper und Geist\, und worauf sollte man bei der Anwendung achten? \nIn diesem Workshop erhältst Du fundiertes Basiswissen rund um ätherische Öle – ideal für Einsteiger und alle\, die einen natürlichen Weg zu mehr Wohlbefinden suchen. Gemeinsam tauchen wir in die Welt der Düfte ein und beleuchten drei der beliebtesten ätherischen Öle: \nLAVENDEL\, PFEFFERMINZE und ZITRONE. \nDu erfährst Spannendes über die Herkunft der Pflanzen\, ihre Wirkstoffe und wie Du die Öle sicher und wirkungsvoll im Alltag einsetzen kannst – ob zur Entspannung\, Erfrischung oder bei kleinen Beschwerden. \nFreue Dich auf eine duftende Entdeckungsreise mit vielen praktischen Tipps\, die nicht nur Deine Hausapotheke bereichern und Dein Wohlbefinden stärken können. \n————————————— \nDu möchtest teilnehmen?\nMerke Dir das Datum und buche direkt per Mail! \n————————————— \nJetzt per Mail buchen
URL:https://www.essenz.vision/index.php/event/einsteiger_01/
LOCATION:Haus der Kräuter\, Kemnather Str. 3\, Nagel\, Bayern\, 95697\, Germany
CATEGORIES:Intro
ATTACH;FMTTYPE=image/jpeg:https://www.essenz.vision/wp-content/uploads/2025/01/home-hero-background-desktop-13.jpg
END:VEVENT
BEGIN:VEVENT
DTSTART;TZID=Europe/Berlin:20250520T190000
DTEND;TZID=Europe/Berlin:20250520T210000
DTSTAMP:20260421T111151
CREATED:20191104T073701Z
LAST-MODIFIED:20250525T153631Z
UID:535-1747767600-1747774800@www.essenz.vision
SUMMARY:Intro Guide
DESCRIPTION:Ätherische Öle entdecken – sanfte Helfer der Natur \nWas sind ätherische Öle eigentlich genau? Wie wirken sie auf Körper und Geist\, und worauf sollte man bei der Anwendung achten? \nIn diesem Workshop erhältst Du fundiertes Basiswissen rund um ätherische Öle – ideal für Einsteiger und alle\, die einen natürlichen Weg zu mehr Wohlbefinden suchen. Gemeinsam tauchen wir in die Welt der Düfte ein und beleuchten drei der beliebtesten ätherischen Öle: \nLAVENDEL\, PFEFFERMINZE und ZITRONE. \nDu erfährst Spannendes über die Herkunft der Pflanzen\, ihre Wirkstoffe und wie Du die Öle sicher und wirkungsvoll im Alltag einsetzen kannst – ob zur Entspannung\, Erfrischung oder bei kleinen Beschwerden. \nFreue Dich auf eine duftende Entdeckungsreise mit vielen praktischen Tipps\, die nicht nur Deine Hausapotheke bereichern und Dein Wohlbefinden stärken können. \n————————————— \nDu möchtest teilnehmen?\nMerke Dir das Datum und buche direkt per Mail! \n————————————— \nJetzt per Mail buchen
URL:https://www.essenz.vision/index.php/event/einsteiger-guide/
LOCATION:Haus der Kräuter\, Kemnather Str. 3\, Nagel\, Bayern\, 95697\, Germany
CATEGORIES:Intro
ATTACH;FMTTYPE=image/jpeg:https://www.essenz.vision/wp-content/uploads/2024/12/event-duftreise3.jpg
END:VEVENT
BEGIN:VEVENT
DTSTART;TZID=Europe/Berlin:20250515T190000
DTEND;TZID=Europe/Berlin:20250515T213000
DTSTAMP:20260421T111151
CREATED:20241204T104617Z
LAST-MODIFIED:20250512T150914Z
UID:1024-1747335600-1747344600@www.essenz.vision
SUMMARY:Reiseapotheke
DESCRIPTION:Gut gerüstet für die Reise: Ätherische Öle to go – \nSommerzeit ist Reisezeit – ob ans Meer oder in die Berge. Damit Du unterwegs bestens vorbereitet bist\, erfährst Du in diesem Workshop\, welche ätherischen Öle in jede Reiseapotheke gehören. \nOb bei Übelkeit\, Sonnenbrand oder Insektenstichen – die Natur bietet kraftvolle Helfer. Gemeinsam stellen wir einen praktischen Erste-Hilfe-Roll-on her\, den Du sofort mitnehmen kannst. \nSo startest Du entspannt und gut versorgt in Dein Sommerabenteuer! \n————————————— \nDu möchtest teilnehmen?\nMerke Dir das Datum und buche direkt per Mail! \n————————————— \nJetzt per Mail buchen\n 
URL:https://www.essenz.vision/index.php/event/reiseapotheke/
LOCATION:Haus der Kräuter\, Kemnather Str. 3\, Nagel\, Bayern\, 95697\, Germany
CATEGORIES:Workshops
ATTACH;FMTTYPE=image/jpeg:https://www.essenz.vision/wp-content/uploads/2024/12/event-reiseapo.jpg
END:VEVENT
END:VCALENDAR