BEGIN:VCALENDAR
VERSION:2.0
PRODID:-//essenz.vision - ECPv6.15.20//NONSGML v1.0//EN
CALSCALE:GREGORIAN
METHOD:PUBLISH
X-WR-CALNAME:essenz.vision
X-ORIGINAL-URL:https://www.essenz.vision
X-WR-CALDESC:Veranstaltungen für essenz.vision
REFRESH-INTERVAL;VALUE=DURATION:PT1H
X-Robots-Tag:noindex
X-PUBLISHED-TTL:PT1H
BEGIN:VTIMEZONE
TZID:Europe/Berlin
BEGIN:DAYLIGHT
TZOFFSETFROM:+0100
TZOFFSETTO:+0200
TZNAME:CEST
DTSTART:20250330T010000
END:DAYLIGHT
BEGIN:STANDARD
TZOFFSETFROM:+0200
TZOFFSETTO:+0100
TZNAME:CET
DTSTART:20251026T010000
END:STANDARD
BEGIN:DAYLIGHT
TZOFFSETFROM:+0100
TZOFFSETTO:+0200
TZNAME:CEST
DTSTART:20260329T010000
END:DAYLIGHT
BEGIN:STANDARD
TZOFFSETFROM:+0200
TZOFFSETTO:+0100
TZNAME:CET
DTSTART:20261025T010000
END:STANDARD
BEGIN:DAYLIGHT
TZOFFSETFROM:+0100
TZOFFSETTO:+0200
TZNAME:CEST
DTSTART:20270328T010000
END:DAYLIGHT
BEGIN:STANDARD
TZOFFSETFROM:+0200
TZOFFSETTO:+0100
TZNAME:CET
DTSTART:20271031T010000
END:STANDARD
END:VTIMEZONE
BEGIN:VEVENT
DTSTART;TZID=Europe/Berlin:20260424T190000
DTEND;TZID=Europe/Berlin:20260424T210000
DTSTAMP:20260421T112030
CREATED:20250414T134656Z
LAST-MODIFIED:20260207T142021Z
UID:2574-1777057200-1777064400@www.essenz.vision
SUMMARY:Duftreise - Selbstliebe
DESCRIPTION:Sich selbst mit Freundlichkeit\, Liebe und Respekt begegnen – \nSelbstliebe ist eine Einladung\, dir selbst achtsam zu begegnen. Es ist das leise Ja zu deinen Bedürfnissen\, deinen Grenzen und auch zu deinen Unvollkommenheiten. Diese geführte Duftreise führt dich sanft nach innen – zu Ruhe\, Wärme und innerer Balance. Mit jedem Atemzug darfst du loslassen\, was dich beschwert\, und annehmen\, was dich stärkt. Du bist genug\, genauso wie du bist\, und dieser Moment gehört ganz dir. Ausgewählte ätherische Öle begleiten dich auf deiner Reise zu dir selbst. \nVor Beginn stelle ich dir die eingesetzten Öle vor\, erkläre ihre Wirkungsweise und gebe dir wertvolle Tipps zur Anwendung im Alltag. Du lernst\, wie du die Kraft der Natur gezielt für dich nutzen kannst – sei es zur Entspannung\, zur Stärkung oder zum Loslassen. \nFÜR DEINE PERSÖNLICHE WOHLFÜHLZEIT: Bitte bring eine Matte\, Decke\, ein Kissen und bequeme Kleidung mit! \n————————————— \nDu möchtest teilnehmen?\nMerke Dir das Datum und buche direkt per Mail! \n————————————— \nJetzt per Mail buchen
URL:https://www.essenz.vision/index.php/event/duftreise-4/
LOCATION:Gemeindezentrum Nagel\, Wunsiedler Str. 25\, 95697\, Bayern\, 95697\, Germany
CATEGORIES:Event
ATTACH;FMTTYPE=image/jpeg:https://www.essenz.vision/wp-content/uploads/2025/04/IMG_5246-2-e1770474003174.jpeg
END:VEVENT
END:VCALENDAR