BEGIN:VCALENDAR
VERSION:2.0
PRODID:-//essenz.vision - ECPv6.15.20//NONSGML v1.0//EN
CALSCALE:GREGORIAN
METHOD:PUBLISH
X-WR-CALNAME:essenz.vision
X-ORIGINAL-URL:https://www.essenz.vision
X-WR-CALDESC:Veranstaltungen für essenz.vision
REFRESH-INTERVAL;VALUE=DURATION:PT1H
X-Robots-Tag:noindex
X-PUBLISHED-TTL:PT1H
BEGIN:VTIMEZONE
TZID:Europe/Berlin
BEGIN:DAYLIGHT
TZOFFSETFROM:+0100
TZOFFSETTO:+0200
TZNAME:CEST
DTSTART:20250330T010000
END:DAYLIGHT
BEGIN:STANDARD
TZOFFSETFROM:+0200
TZOFFSETTO:+0100
TZNAME:CET
DTSTART:20251026T010000
END:STANDARD
BEGIN:DAYLIGHT
TZOFFSETFROM:+0100
TZOFFSETTO:+0200
TZNAME:CEST
DTSTART:20260329T010000
END:DAYLIGHT
BEGIN:STANDARD
TZOFFSETFROM:+0200
TZOFFSETTO:+0100
TZNAME:CET
DTSTART:20261025T010000
END:STANDARD
BEGIN:DAYLIGHT
TZOFFSETFROM:+0100
TZOFFSETTO:+0200
TZNAME:CEST
DTSTART:20270328T010000
END:DAYLIGHT
BEGIN:STANDARD
TZOFFSETFROM:+0200
TZOFFSETTO:+0100
TZNAME:CET
DTSTART:20271031T010000
END:STANDARD
END:VTIMEZONE
BEGIN:VEVENT
DTSTART;TZID=Europe/Berlin:20260417T190000
DTEND;TZID=Europe/Berlin:20260417T213000
DTSTAMP:20260421T111842
CREATED:20260102T132648Z
LAST-MODIFIED:20260323T085202Z
UID:3206-1776452400-1776461400@www.essenz.vision
SUMMARY:Kosmische Essenzen
DESCRIPTION:Ätherische Öle im Einklang mit deinem Sternzeichen \nErlebe eine einzigartige Verbindung von Sternenweisheit und der Kraft ätherischer Öle. Dieser Workshop lädt dich zu einer Reise ein\, bei der die Einflüsse deines persönlichen Sternzeichens mit den wohltuenden Düften und Wirkungen sorgfältig ausgewählter ätherischer Öle harmonieren. Du lernst\, wie du diese natürlichen Essenzen gezielt nutzt\, um deine Energie zu stärken\, innere Blockaden zu lösen und deine astrologische Persönlichkeitsarchitektur zu unterstützen. Im Kurs erfährst du die wichtigsten Grundlagen der Astrologie und die Wirkungsweise ätherischer Öle auf Körper\, Geist und Seele. Gemeinsam stellst du individuelle Duftmischungen her\, die dein Sternzeichen und aktuelle Lebenszyklen begleiten und dir helfen\, deine innere Balance zu finden und zu vertiefen. \n————————————— \nDu möchtest teilnehmen?\nMerke Dir das Datum und buche direkt per Mail! \n————————————— \n 
URL:https://www.essenz.vision/index.php/event/kosmische-essenzen/
LOCATION:Haus der Kräuter\, Kemnather Str. 3\, Nagel\, Bayern\, 95697\, Germany
CATEGORIES:Workshops
ATTACH;FMTTYPE=image/jpeg:https://www.essenz.vision/wp-content/uploads/2026/01/iStock-1411203580.jpeg
END:VEVENT
END:VCALENDAR