BEGIN:VCALENDAR
VERSION:2.0
PRODID:-//essenz.vision - ECPv6.15.20//NONSGML v1.0//EN
CALSCALE:GREGORIAN
METHOD:PUBLISH
X-WR-CALNAME:essenz.vision
X-ORIGINAL-URL:https://www.essenz.vision
X-WR-CALDESC:Veranstaltungen für essenz.vision
REFRESH-INTERVAL;VALUE=DURATION:PT1H
X-Robots-Tag:noindex
X-PUBLISHED-TTL:PT1H
BEGIN:VTIMEZONE
TZID:Europe/Berlin
BEGIN:DAYLIGHT
TZOFFSETFROM:+0100
TZOFFSETTO:+0200
TZNAME:CEST
DTSTART:20250330T010000
END:DAYLIGHT
BEGIN:STANDARD
TZOFFSETFROM:+0200
TZOFFSETTO:+0100
TZNAME:CET
DTSTART:20251026T010000
END:STANDARD
BEGIN:DAYLIGHT
TZOFFSETFROM:+0100
TZOFFSETTO:+0200
TZNAME:CEST
DTSTART:20260329T010000
END:DAYLIGHT
BEGIN:STANDARD
TZOFFSETFROM:+0200
TZOFFSETTO:+0100
TZNAME:CET
DTSTART:20261025T010000
END:STANDARD
BEGIN:DAYLIGHT
TZOFFSETFROM:+0100
TZOFFSETTO:+0200
TZNAME:CEST
DTSTART:20270328T010000
END:DAYLIGHT
BEGIN:STANDARD
TZOFFSETFROM:+0200
TZOFFSETTO:+0100
TZNAME:CET
DTSTART:20271031T010000
END:STANDARD
END:VTIMEZONE
BEGIN:VEVENT
DTSTART;TZID=Europe/Berlin:20260327T190000
DTEND;TZID=Europe/Berlin:20260327T210000
DTSTAMP:20260421T124657
CREATED:20260102T170851Z
LAST-MODIFIED:20260207T141656Z
UID:3227-1774638000-1774645200@www.essenz.vision
SUMMARY:Duftreise - Vertrauen\, Kraft\, Naturverbundenheit
DESCRIPTION:Ein Atemzug Natur – ein Moment des Vertrauens. \nIn diesem besonderen Workshop erlebst Du eine geführte Duftreise – eine Reise zu Deiner inneren Kraft – getragen von der Weisheit der Pflanzen. \nAtme ein – und spüre\, wie der Duft Dich trägt. Wie ein sanfter Wind aus der Natur erinnert er Dich daran\, dass Du Teil von etwas Größerem bist. Mit jedem Atemzug wächst das Vertrauen in Deinen Körper\, in Deine Wahrnehmung\, in den natürlichen Rhythmus des Lebens. Die Essenzen der Pflanzen erzählen von Beständigkeit und innerer Stärke\, und genau diese Kraft darf auch Dich durchströmen. Die Natur trägt Dich. \nVielleicht spürst Du ein stilles Wissen in Dir. Du darfst vertrauen\, Deinem Weg\, Deinem Tempo\, Deiner inneren Weisheit. Wie die Pflanzen folgst auch Du Deiner eigenen Natur. \nVor Beginn stelle ich Dir die eingesetzten ätherischen Öle vor\, erkläre ihre Wirkungsweise und gebe Dir wertvolle Tipps zur Anwendung im Alltag. Du lernst\, wie Du die Kraft der Natur gezielt für Dich nutzen kannst – sei es zur Entspannung\, zur Stärkung oder zum Loslassen. \nFÜR DEINE PERSÖNLICHE AUSZEIT: Bitte bring eine Matte\, Decke\, ein Kissen und bequeme Kleidung mit! \n————————————— \nDu möchtest teilnehmen?\nMerke Dir das Datum und buche direkt per Mail! \n—————————————
URL:https://www.essenz.vision/index.php/event/duftreise-vertrauen-kraft-naturverbundenheit/
LOCATION:Gemeindezentrum Nagel\, Wunsiedler Str. 25\, 95697\, Bayern\, 95697\, Germany
CATEGORIES:Event
ATTACH;FMTTYPE=image/jpeg:https://www.essenz.vision/wp-content/uploads/2025/07/9314-scaled.jpg
END:VEVENT
END:VCALENDAR