BEGIN:VCALENDAR
VERSION:2.0
PRODID:-//essenz.vision - ECPv6.15.20//NONSGML v1.0//EN
CALSCALE:GREGORIAN
METHOD:PUBLISH
X-ORIGINAL-URL:https://www.essenz.vision
X-WR-CALDESC:Veranstaltungen für essenz.vision
REFRESH-INTERVAL;VALUE=DURATION:PT1H
X-Robots-Tag:noindex
X-PUBLISHED-TTL:PT1H
BEGIN:VTIMEZONE
TZID:Europe/Berlin
BEGIN:DAYLIGHT
TZOFFSETFROM:+0100
TZOFFSETTO:+0200
TZNAME:CEST
DTSTART:20250330T010000
END:DAYLIGHT
BEGIN:STANDARD
TZOFFSETFROM:+0200
TZOFFSETTO:+0100
TZNAME:CET
DTSTART:20251026T010000
END:STANDARD
BEGIN:DAYLIGHT
TZOFFSETFROM:+0100
TZOFFSETTO:+0200
TZNAME:CEST
DTSTART:20260329T010000
END:DAYLIGHT
BEGIN:STANDARD
TZOFFSETFROM:+0200
TZOFFSETTO:+0100
TZNAME:CET
DTSTART:20261025T010000
END:STANDARD
BEGIN:DAYLIGHT
TZOFFSETFROM:+0100
TZOFFSETTO:+0200
TZNAME:CEST
DTSTART:20270328T010000
END:DAYLIGHT
BEGIN:STANDARD
TZOFFSETFROM:+0200
TZOFFSETTO:+0100
TZNAME:CET
DTSTART:20271031T010000
END:STANDARD
END:VTIMEZONE
BEGIN:VEVENT
DTSTART;TZID=Europe/Berlin:20260227T190000
DTEND;TZID=Europe/Berlin:20260227T210000
DTSTAMP:20260421T125005
CREATED:20191104T074440Z
LAST-MODIFIED:20260207T151559Z
UID:539-1772218800-1772226000@www.essenz.vision
SUMMARY:Duftreise - Kreativität
DESCRIPTION:Begegnung mit Deiner inneren Schöpferkraft \nIn diesem besonderen Workshop erlebst Du eine geführte Duftreise – eine Form der Meditation\, bei der ätherische Öle Dich dabei unterstützen\, tief zu entspannen und Deine innere Stärke zu aktivieren. \nDüfte wirken direkt auf unser limbisches System\, den Teil des Gehirns\, der für Emotionen\, Erinnerungen und Kreativität zuständig ist. Diese Duftreise ist eine Einladung\, Deiner inneren Schöpferkraft zu begegnen. Vertraue Deinen Sinnen\, folge Deiner Neugier und nimm mit\, was Dich berührt. Denn Kreativität beginnt dort\, wo wir uns erlauben zu fühlen. \nVor Beginn stelle ich Dir die eingesetzten Öle vor\, erkläre ihre Wirkungsweise und gebe Dir wertvolle Tipps zur Anwendung im Alltag. Du lernst\, wie Du die Kraft der Natur gezielt für Dich nutzen kannst – sei es zur Entspannung\, zur Stärkung oder zum Loslassen. \nFÜR DEINE PERSÖNLICHE WOHLFÜHLZEIT: Bitte bring eine Matte\, Decke\, ein Kissen und bequeme Kleidung mit! \n  \n————————————— \nDu möchtest teilnehmen?\nMerke Dir das Datum und buche direkt per Mail! \n————————————— \nJetzt per Mail buchen
URL:https://www.essenz.vision/index.php/event/duftreise-selbstkraft/
LOCATION:Gemeindezentrum Nagel\, Wunsiedler Str. 25\, 95697\, Bayern\, 95697\, Germany
CATEGORIES:Event
ATTACH;FMTTYPE=image/jpeg:https://www.essenz.vision/wp-content/uploads/2019/11/IMG_4649-1.jpeg
END:VEVENT
END:VCALENDAR