BEGIN:VCALENDAR
VERSION:2.0
PRODID:-//essenz.vision - ECPv6.15.20//NONSGML v1.0//EN
CALSCALE:GREGORIAN
METHOD:PUBLISH
X-ORIGINAL-URL:https://www.essenz.vision
X-WR-CALDESC:Veranstaltungen für essenz.vision
REFRESH-INTERVAL;VALUE=DURATION:PT1H
X-Robots-Tag:noindex
X-PUBLISHED-TTL:PT1H
BEGIN:VTIMEZONE
TZID:Europe/Berlin
BEGIN:DAYLIGHT
TZOFFSETFROM:+0100
TZOFFSETTO:+0200
TZNAME:CEST
DTSTART:20250330T010000
END:DAYLIGHT
BEGIN:STANDARD
TZOFFSETFROM:+0200
TZOFFSETTO:+0100
TZNAME:CET
DTSTART:20251026T010000
END:STANDARD
BEGIN:DAYLIGHT
TZOFFSETFROM:+0100
TZOFFSETTO:+0200
TZNAME:CEST
DTSTART:20260329T010000
END:DAYLIGHT
BEGIN:STANDARD
TZOFFSETFROM:+0200
TZOFFSETTO:+0100
TZNAME:CET
DTSTART:20261025T010000
END:STANDARD
BEGIN:DAYLIGHT
TZOFFSETFROM:+0100
TZOFFSETTO:+0200
TZNAME:CEST
DTSTART:20270328T010000
END:DAYLIGHT
BEGIN:STANDARD
TZOFFSETFROM:+0200
TZOFFSETTO:+0100
TZNAME:CET
DTSTART:20271031T010000
END:STANDARD
END:VTIMEZONE
BEGIN:VEVENT
DTSTART;TZID=Europe/Berlin:20260226T140000
DTEND;TZID=Europe/Berlin:20260226T163000
DTSTAMP:20260421T125125
CREATED:20260102T125924Z
LAST-MODIFIED:20260207T172109Z
UID:3200-1772114400-1772123400@www.essenz.vision
SUMMARY:Ätherische Öle für Senioren
DESCRIPTION:Ätherische Öle für Senioren \nWohlbefinden\, Entspannung und Lebensfreude mit der Kraft der Natur. In diesem Workshop entdecken wir die sanfte Welt der ätherischen Öle – natürliche Düfte\, die Körper\, Geist und Seele stärken können. Gemeinsam lernen wir\, wie ausgewählte Öle das Wohlbefinden im Alltag unterstützen: beruhigende Düfte für erholsamen Schlaf\, anregende Aromen für mehr Energie und gute Laune\, wohltuende Mischungen für Muskeln\, Gelenke und Atemwege. Mit einfachen Anwendungen\, kleinen Duftübungen und praktischen Tipps erfahren Sie\, wie Sie ätherische Öle sicher und angenehm einsetzen können. \nEin Nachmittag zum Durchatmen\, Wohlfühlen und Genießen. \n————————————— \nDu möchtest teilnehmen?\nMerke Dir das Datum und buche direkt per Mail! \n—————————————
URL:https://www.essenz.vision/index.php/event/aetherische-oele-fuer-senioren/
LOCATION:Haus der Kräuter\, Kemnather Str. 3\, Nagel\, Bayern\, 95697\, Germany
CATEGORIES:Workshops
ATTACH;FMTTYPE=image/jpeg:https://www.essenz.vision/wp-content/uploads/2025/01/home-hero-background-desktop-11.jpg
END:VEVENT
END:VCALENDAR