BEGIN:VCALENDAR
VERSION:2.0
PRODID:-//essenz.vision - ECPv6.15.20//NONSGML v1.0//EN
CALSCALE:GREGORIAN
METHOD:PUBLISH
X-WR-CALNAME:essenz.vision
X-ORIGINAL-URL:https://www.essenz.vision
X-WR-CALDESC:Veranstaltungen für essenz.vision
REFRESH-INTERVAL;VALUE=DURATION:PT1H
X-Robots-Tag:noindex
X-PUBLISHED-TTL:PT1H
BEGIN:VTIMEZONE
TZID:Europe/Berlin
BEGIN:DAYLIGHT
TZOFFSETFROM:+0100
TZOFFSETTO:+0200
TZNAME:CEST
DTSTART:20250330T010000
END:DAYLIGHT
BEGIN:STANDARD
TZOFFSETFROM:+0200
TZOFFSETTO:+0100
TZNAME:CET
DTSTART:20251026T010000
END:STANDARD
BEGIN:DAYLIGHT
TZOFFSETFROM:+0100
TZOFFSETTO:+0200
TZNAME:CEST
DTSTART:20260329T010000
END:DAYLIGHT
BEGIN:STANDARD
TZOFFSETFROM:+0200
TZOFFSETTO:+0100
TZNAME:CET
DTSTART:20261025T010000
END:STANDARD
BEGIN:DAYLIGHT
TZOFFSETFROM:+0100
TZOFFSETTO:+0200
TZNAME:CEST
DTSTART:20270328T010000
END:DAYLIGHT
BEGIN:STANDARD
TZOFFSETFROM:+0200
TZOFFSETTO:+0100
TZNAME:CET
DTSTART:20271031T010000
END:STANDARD
END:VTIMEZONE
BEGIN:VEVENT
DTSTART;TZID=Europe/Berlin:20260130T190000
DTEND;TZID=Europe/Berlin:20260130T210000
DTSTAMP:20260423T085224
CREATED:20260102T141207Z
LAST-MODIFIED:20260102T155804Z
UID:3218-1769799600-1769806800@www.essenz.vision
SUMMARY:Duftreise - Neubeginn
DESCRIPTION:Altes loslassen – Einen Neuanfang wagen \nIn diesem besonderen Workshop erlebst Du eine geführte Duftreise – eine Form der Meditation\, bei der ätherische Öle Dich dabei unterstützen\, tief zu entspannen und Deine innere Stärke zu aktivieren. Die Düfte unterstützen Dich dabei alles\, was Dich nicht mehr nährt\, loszulassen und Raum für Klarheit\, Leichtigkeit und neue Möglichkeiten entstehen zu lassen. \nVor Beginn stelle ich Dir die eingesetzten Öle vor\, erkläre ihre Wirkungsweise und gebe Dir wertvolle Tipps zur Anwendung im Alltag. Du lernst\, wie Du die Kraft der Natur gezielt für Dich nutzen kannst – sei es zur Entspannung\, zur Stärkung oder zum Loslassen. \nFÜR DEINE PERSÖNLICHE WOHLFÜHLZEIT: Bitte bring eine Matte\, Decke\, ein Kissen und bequeme Kleidung mit! \n  \n————————————— \nDu möchtest teilnehmen?\nMerke Dir das Datum und buche direkt per Mail! \n—————————————
URL:https://www.essenz.vision/index.php/event/duftreise-neubeginn/
LOCATION:Gemeindezentrum Nagel\, Wunsiedler Str. 25\, 95697\, Bayern\, 95697\, Germany
CATEGORIES:Event
ATTACH;FMTTYPE=image/jpeg:https://www.essenz.vision/wp-content/uploads/2026/01/IMG_4696-1.jpeg
END:VEVENT
END:VCALENDAR