BEGIN:VCALENDAR
VERSION:2.0
PRODID:-//essenz.vision - ECPv6.15.20//NONSGML v1.0//EN
CALSCALE:GREGORIAN
METHOD:PUBLISH
X-WR-CALNAME:essenz.vision
X-ORIGINAL-URL:https://www.essenz.vision
X-WR-CALDESC:Veranstaltungen für essenz.vision
REFRESH-INTERVAL;VALUE=DURATION:PT1H
X-Robots-Tag:noindex
X-PUBLISHED-TTL:PT1H
BEGIN:VTIMEZONE
TZID:Europe/Berlin
BEGIN:DAYLIGHT
TZOFFSETFROM:+0100
TZOFFSETTO:+0200
TZNAME:CEST
DTSTART:20250330T010000
END:DAYLIGHT
BEGIN:STANDARD
TZOFFSETFROM:+0200
TZOFFSETTO:+0100
TZNAME:CET
DTSTART:20251026T010000
END:STANDARD
BEGIN:DAYLIGHT
TZOFFSETFROM:+0100
TZOFFSETTO:+0200
TZNAME:CEST
DTSTART:20260329T010000
END:DAYLIGHT
BEGIN:STANDARD
TZOFFSETFROM:+0200
TZOFFSETTO:+0100
TZNAME:CET
DTSTART:20261025T010000
END:STANDARD
BEGIN:DAYLIGHT
TZOFFSETFROM:+0100
TZOFFSETTO:+0200
TZNAME:CEST
DTSTART:20270328T010000
END:DAYLIGHT
BEGIN:STANDARD
TZOFFSETFROM:+0200
TZOFFSETTO:+0100
TZNAME:CET
DTSTART:20271031T010000
END:STANDARD
END:VTIMEZONE
BEGIN:VEVENT
DTSTART;TZID=Europe/Berlin:20260127T190000
DTEND;TZID=Europe/Berlin:20260127T213000
DTSTAMP:20260423T102354
CREATED:20260102T124942Z
LAST-MODIFIED:20260117T121312Z
UID:3196-1769540400-1769549400@www.essenz.vision
SUMMARY:Zitrusfrische
DESCRIPTION:Zitrusfrische für Körper und Seele – Wellness mit ätherischen Zitrusölen \nErlebe die sonnige Leichtigkeit ätherischer Zitrusöle und bring neuen Schwung in dein persönliches Wohlfühlritual. In diesem entspannenden Workshop dreht sich alles um die wohltuende Kraft von Orange\, Zitrone\, Grapefruit & Co. – ideal zur Förderung von Lebensfreude\, innerer Balance und einem frischen Körpergefühl. Du erfährst\, wie du Zitrusöle sicher und genussvoll im Alltag einsetzen kannst – etwa in Körperpflege\, Raumbeduftung oder zur kleinen Auszeit zwischendurch. Gemeinsam kreieren wir einfache Wellness-Produkte zum Mitnehmen die Körper und Sinne verwöhnen. \nEin Workshop für alle\, die natürliche Frische und neue Energie in ihr Wohlfühlprogramm bringen möchten. \n————————————— \nDu möchtest teilnehmen?\nMerke Dir das Datum und buche direkt per Mail! \n—————————————
URL:https://www.essenz.vision/index.php/event/zitrusfrische-fuer-koerper-und-seele/
LOCATION:Haus der Kräuter\, Kemnather Str. 3\, Nagel\, Bayern\, 95697\, Germany
CATEGORIES:Workshops
ATTACH;FMTTYPE=image/jpeg:https://www.essenz.vision/wp-content/uploads/2026/01/IMG_5391.jpeg
END:VEVENT
END:VCALENDAR